BEGIN:VCALENDAR
VERSION:2.0
PRODID:-//eventon.com NONSGML v1.0//EN
CALSCALE:GREGORIAN
METHOD:PUBLISH
BEGIN:VEVENT
UID:69e90bc2794c8
DTSTAMP:20260422T175618Z
DTSTART:20241012T191500Z
DTEND:20241012T235000Z
LOCATION:Handmap Brewing 15 Carlyle St.\,  Battle Creek\,  MI 49017
SUMMARY:JR CLARK
DESCRIPTION:J R Clark This act\,  previously known as J R Clark and the All
 -Star Blues Mob\,  has multiple albums out which can be found on most plat
 forms that sell or stream music. The band name change is really just going 
 back to the original band name. The musicians in the band still[..]\nhttps
 ://handmapbrewing.com/events/jr-clark-7/
URL:https://handmapbrewing.com/events/jr-clark-7/
END:VEVENT
END:VCALENDAR