BEGIN:VCALENDAR
VERSION:2.0
PRODID:-//eventon.com NONSGML v1.0//EN
CALSCALE:GREGORIAN
METHOD:PUBLISH
BEGIN:VEVENT
UID:69e5e197b2e28
DTSTAMP:20260420T081935Z
DTSTART:20240524T190000Z
DTEND:20240524T235900Z
LOCATION:Handmap Brewing 15 Carlyle St.\,  Battle Creek\,  MI 49017
SUMMARY:SNEAKY PETE
DESCRIPTION:Sneaky Pete has reinvented itself again. Why not? I&#8217;m a y
 oung\,  old man. I can do what I want. The new band will debut at Handmap B
 rewing in Battle Creek. Clasic Rock mixed with a little Blues\,  R&amp;B\, 
  and even a SP original. Please come out and join us for[..]\nhttps://handm
 apbrewing.com/events/sneaky-pete/
URL:https://handmapbrewing.com/events/sneaky-pete/
END:VEVENT
END:VCALENDAR