BEGIN:VCALENDAR
VERSION:2.0
PRODID:-//eventon.com NONSGML v1.0//EN
CALSCALE:GREGORIAN
METHOD:PUBLISH
BEGIN:VEVENT
UID:69ecadeae96d2
DTSTAMP:20260425T120458Z
DTSTART:20241005T160000Z
DTEND:20241005T235900Z
LOCATION:Handmap Brewing 15 Carlyle St.\,  Battle Creek\,  MI 49017
SUMMARY:OCTOBEER FEST w music by Q SONICS
DESCRIPTION:OCTOBEER FEST w music by Q SONICS\nhttps://handmapbrewing.com/e
 vents/octobeer-fest-w-music-by-q-sonics/
URL:https://handmapbrewing.com/events/octobeer-fest-w-music-by-q-sonics/
END:VEVENT
END:VCALENDAR