BEGIN:VCALENDAR
VERSION:2.0
PRODID:-//eventon.com NONSGML v1.0//EN
CALSCALE:GREGORIAN
METHOD:PUBLISH
BEGIN:VEVENT
UID:69e8f03587f15
DTSTAMP:20260422T155845Z
DTSTART:20241101T200000Z
DTEND:20241101T235900Z
LOCATION:Handmap Brewing 15 Carlyle St.\,  Battle Creek\,  MI 49017
SUMMARY:THE STEEPWATER BAND | FIRST FRIDAY EVENT!
DESCRIPTION:TSB RETURNS TO HANDMAP!\nhttps://handmapbrewing.com/events/the-
 steepwater-band-first-friday-event/
URL:https://handmapbrewing.com/events/the-steepwater-band-first-friday-event/
END:VEVENT
END:VCALENDAR