BEGIN:VCALENDAR
VERSION:2.0
PRODID:-//eventon.com NONSGML v1.0//EN
CALSCALE:GREGORIAN
METHOD:PUBLISH
BEGIN:VEVENT
UID:69e742dd1a999
DTSTAMP:20260421T092653Z
DTSTART:20211127T000000Z
DTEND:20211127T045000Z
LOCATION:Handmap Brewing 15 Carlyle St.\,  Battle Creek\,  MI 49017
SUMMARY:Harper and Midwest Kind
DESCRIPTION:An amalgamation of roots\,  blues and world music\,  award winn
 ing Australian singer/ songwriter &#8220;Peter D. Harper&#8221; creates a h
 eady mix of roots music through his creative use of the harmonica\,  and th
 e haunting drone of the didgeridoo\nhttps://handmapbrewing.com/events/harpe
 r-and-midwest-kind/
URL:https://handmapbrewing.com/events/harper-and-midwest-kind/
END:VEVENT
END:VCALENDAR