BEGIN:VCALENDAR
VERSION:2.0
PRODID:-//eventon.com NONSGML v1.0//EN
CALSCALE:GREGORIAN
METHOD:PUBLISH
BEGIN:VEVENT
UID:69ebf123e55bf
DTSTAMP:20260424T223931Z
DTSTART:20220422T230000Z
DTEND:20220423T035000Z
LOCATION:Handmap Brewing 15 Carlyle St.\,  Battle Creek\,  MI 49017
SUMMARY:Harper and Midwest Kind
DESCRIPTION:An amalgamation of roots\,  blues and world music\,  award winn
 ing Australian singer/ songwriter &#8220;Peter D. Harper&#8221; creates a h
 eady mix of roots music through his creative use of the harmonica\,  and th
 e haunting drone of the didgeridoo\nhttps://handmapbrewing.com/events/harpe
 r-and-midwest-kind-2/
URL:https://handmapbrewing.com/events/harper-and-midwest-kind-2/
END:VEVENT
END:VCALENDAR