BEGIN:VCALENDAR
VERSION:2.0
PRODID:-//eventon.com NONSGML v1.0//EN
CALSCALE:GREGORIAN
METHOD:PUBLISH
BEGIN:VEVENT
UID:69eb628cab500
DTSTAMP:20260424T123108Z
DTSTART:20220306T000000Z
DTEND:20220306T045000Z
LOCATION:Handmap Brewing 15 Carlyle St.\,  Battle Creek\,  MI 49017
SUMMARY:Chris Canas Band
DESCRIPTION:Detroit&#8217;s Prince of the Blues\nhttps://handmapbrewing.com
 /events/chris-canas-band-5/
URL:https://handmapbrewing.com/events/chris-canas-band-5/
END:VEVENT
END:VCALENDAR