BEGIN:VCALENDAR
VERSION:2.0
PRODID:-//eventon.com NONSGML v1.0//EN
CALSCALE:GREGORIAN
METHOD:PUBLISH
BEGIN:VEVENT
UID:69ebba68999a7
DTSTAMP:20260424T184600Z
DTSTART:20220514T230000Z
DTEND:20220515T035000Z
LOCATION:Handmap Brewing 15 Carlyle St.\,  Battle Creek\,  MI 49017
SUMMARY:Tenakill
DESCRIPTION:Tenakill\nhttps://handmapbrewing.com/events/tenakill/
URL:https://handmapbrewing.com/events/tenakill/
END:VEVENT
END:VCALENDAR