BEGIN:VCALENDAR
VERSION:2.0
PRODID:-//eventon.com NONSGML v1.0//EN
CALSCALE:GREGORIAN
METHOD:PUBLISH
BEGIN:VEVENT
UID:69eb5b7465db2
DTSTAMP:20260424T120052Z
DTSTART:20220618T233000Z
DTEND:20220619T035000Z
LOCATION:Handmap Brewing 15 Carlyle St.\,  Battle Creek\,  MI 49017
SUMMARY:The Fat Animals
DESCRIPTION:Hailing from Battle Creek Michigan\,  this five-piece ensemble 
 blends the elements of raw soul and blissful improvisations to produce inte
 resting twists on modern and classic music.\nhttps://handmapbrewing.com/eve
 nts/the-fat-animals-2/
URL:https://handmapbrewing.com/events/the-fat-animals-2/
END:VEVENT
END:VCALENDAR