BEGIN:VCALENDAR
VERSION:2.0
PRODID:-//eventon.com NONSGML v1.0//EN
CALSCALE:GREGORIAN
METHOD:PUBLISH
BEGIN:VEVENT
UID:69ecfb6a0c14f
DTSTAMP:20260425T173538Z
DTSTART:20220624T210000Z
DTEND:20220625T035000Z
LOCATION:Handmap Brewing 15 Carlyle St.\,  Battle Creek\,  MI 49017
SUMMARY:THE CHEESE BOSS
DESCRIPTION:THE CHEESE BOSS\nhttps://handmapbrewing.com/events/the-cheese-b
 oss/
URL:https://handmapbrewing.com/events/the-cheese-boss/
END:VEVENT
END:VCALENDAR