BEGIN:VCALENDAR
VERSION:2.0
PRODID:-//eventon.com NONSGML v1.0//EN
CALSCALE:GREGORIAN
METHOD:PUBLISH
BEGIN:VEVENT
UID:69e9ea79e7e0d
DTSTAMP:20260423T094633Z
DTSTART:20220811T223000Z
DTEND:20220812T035000Z
LOCATION:Handmap Brewing 15 Carlyle St.\,  Battle Creek\,  MI 49017
SUMMARY:GATOR BOYS
DESCRIPTION:GATOR BOYS\nhttps://handmapbrewing.com/events/gator-boys-2/
URL:https://handmapbrewing.com/events/gator-boys-2/
END:VEVENT
END:VCALENDAR